BEGIN:VCALENDAR
VERSION:2.0
PRODID:-//Herington Public Library - ECPv6.15.20//NONSGML v1.0//EN
CALSCALE:GREGORIAN
METHOD:PUBLISH
X-ORIGINAL-URL:https://herington.lib.nckls.org
X-WR-CALDESC:Events for Herington Public Library
REFRESH-INTERVAL;VALUE=DURATION:PT1H
X-Robots-Tag:noindex
X-PUBLISHED-TTL:PT1H
BEGIN:VTIMEZONE
TZID:America/Chicago
BEGIN:DAYLIGHT
TZOFFSETFROM:-0600
TZOFFSETTO:-0500
TZNAME:CDT
DTSTART:20250309T080000
END:DAYLIGHT
BEGIN:STANDARD
TZOFFSETFROM:-0500
TZOFFSETTO:-0600
TZNAME:CST
DTSTART:20251102T070000
END:STANDARD
BEGIN:DAYLIGHT
TZOFFSETFROM:-0600
TZOFFSETTO:-0500
TZNAME:CDT
DTSTART:20260308T080000
END:DAYLIGHT
BEGIN:STANDARD
TZOFFSETFROM:-0500
TZOFFSETTO:-0600
TZNAME:CST
DTSTART:20261101T070000
END:STANDARD
BEGIN:DAYLIGHT
TZOFFSETFROM:-0600
TZOFFSETTO:-0500
TZNAME:CDT
DTSTART:20270314T080000
END:DAYLIGHT
BEGIN:STANDARD
TZOFFSETFROM:-0500
TZOFFSETTO:-0600
TZNAME:CST
DTSTART:20271107T070000
END:STANDARD
END:VTIMEZONE
BEGIN:VEVENT
DTSTART;TZID=America/Chicago:20260423T090000
DTEND;TZID=America/Chicago:20260423T100000
DTSTAMP:20260422T232056
CREATED:20260223T215442Z
LAST-MODIFIED:20260223T215442Z
UID:10000059-1776934800-1776938400@herington.lib.nckls.org
SUMMARY:Spring Storytime
DESCRIPTION:“Fairy Tales” – Stories\, Crafts and Snacks – 9 a.m. = It is FREE!\nMarch 26th -May 14th (Thursday only)\n102 South Broadway\, please use basement door
URL:https://herington.lib.nckls.org/event/spring-storytime/2026-04-23/
CATEGORIES:Spring Story Time
ATTACH;FMTTYPE=image/webp:https://herington.lib.nckls.org/wp-content/uploads/sites/21/2026/02/360_F_1187940203_DYWzKYDJgY2PT1yDWxsBS1oqXT3yBJMA.webp
END:VEVENT
BEGIN:VEVENT
DTSTART;TZID=America/Chicago:20260430T090000
DTEND;TZID=America/Chicago:20260430T100000
DTSTAMP:20260422T232056
CREATED:20260223T215442Z
LAST-MODIFIED:20260223T215442Z
UID:10000060-1777539600-1777543200@herington.lib.nckls.org
SUMMARY:Spring Storytime
DESCRIPTION:“Fairy Tales” – Stories\, Crafts and Snacks – 9 a.m. = It is FREE!\nMarch 26th -May 14th (Thursday only)\n102 South Broadway\, please use basement door
URL:https://herington.lib.nckls.org/event/spring-storytime/2026-04-30/
CATEGORIES:Spring Story Time
ATTACH;FMTTYPE=image/webp:https://herington.lib.nckls.org/wp-content/uploads/sites/21/2026/02/360_F_1187940203_DYWzKYDJgY2PT1yDWxsBS1oqXT3yBJMA.webp
END:VEVENT
BEGIN:VEVENT
DTSTART;TZID=America/Chicago:20260504T190000
DTEND;TZID=America/Chicago:20260504T200000
DTSTAMP:20260422T232056
CREATED:20251016T201639Z
LAST-MODIFIED:20251217T211511Z
UID:10000030-1777921200-1777924800@herington.lib.nckls.org
SUMMARY:Book Club
DESCRIPTION:Anyone is welcome to join us. If you have questions please call 785-258-2011
URL:https://herington.lib.nckls.org/event/book-club/2026-05-04/
CATEGORIES:Book Club
ATTACH;FMTTYPE=image/webp:https://herington.lib.nckls.org/wp-content/uploads/sites/21/2025/10/Book-Club-2.webp
END:VEVENT
BEGIN:VEVENT
DTSTART;TZID=America/Chicago:20260507T090000
DTEND;TZID=America/Chicago:20260507T100000
DTSTAMP:20260422T232056
CREATED:20260223T215442Z
LAST-MODIFIED:20260223T215442Z
UID:10000061-1778144400-1778148000@herington.lib.nckls.org
SUMMARY:Spring Storytime
DESCRIPTION:“Fairy Tales” – Stories\, Crafts and Snacks – 9 a.m. = It is FREE!\nMarch 26th -May 14th (Thursday only)\n102 South Broadway\, please use basement door
URL:https://herington.lib.nckls.org/event/spring-storytime/2026-05-07/
CATEGORIES:Spring Story Time
ATTACH;FMTTYPE=image/webp:https://herington.lib.nckls.org/wp-content/uploads/sites/21/2026/02/360_F_1187940203_DYWzKYDJgY2PT1yDWxsBS1oqXT3yBJMA.webp
END:VEVENT
BEGIN:VEVENT
DTSTART;TZID=America/Chicago:20260512T163000
DTEND;TZID=America/Chicago:20260512T173000
DTSTAMP:20260422T232056
CREATED:20251016T204854Z
LAST-MODIFIED:20251219T200655Z
UID:10000038-1778603400-1778607000@herington.lib.nckls.org
SUMMARY:Board of Trustees Meeting
DESCRIPTION:We meet in the basement of the library! Anyone is welcome to join us.
URL:https://herington.lib.nckls.org/event/board-meeting/2026-05-12/
CATEGORIES:Board Meeting
ATTACH;FMTTYPE=image/webp:https://herington.lib.nckls.org/wp-content/uploads/sites/21/2022/10/board-meeting-3-e1701464171962.webp
END:VEVENT
BEGIN:VEVENT
DTSTART;TZID=America/Chicago:20260514T090000
DTEND;TZID=America/Chicago:20260514T100000
DTSTAMP:20260422T232056
CREATED:20260223T215442Z
LAST-MODIFIED:20260223T215442Z
UID:10000062-1778749200-1778752800@herington.lib.nckls.org
SUMMARY:Spring Storytime
DESCRIPTION:“Fairy Tales” – Stories\, Crafts and Snacks – 9 a.m. = It is FREE!\nMarch 26th -May 14th (Thursday only)\n102 South Broadway\, please use basement door
URL:https://herington.lib.nckls.org/event/spring-storytime/2026-05-14/
CATEGORIES:Spring Story Time
ATTACH;FMTTYPE=image/webp:https://herington.lib.nckls.org/wp-content/uploads/sites/21/2026/02/360_F_1187940203_DYWzKYDJgY2PT1yDWxsBS1oqXT3yBJMA.webp
END:VEVENT
BEGIN:VEVENT
DTSTART;VALUE=DATE:20260525
DTEND;VALUE=DATE:20260526
DTSTAMP:20260422T232056
CREATED:20251217T213440Z
LAST-MODIFIED:20251219T195616Z
UID:10000047-1779667200-1779753599@herington.lib.nckls.org
SUMMARY:Closed
DESCRIPTION:Sorry for the inconvenience\, the library will be closed. The library staff looks forward to assisting all patrons.
URL:https://herington.lib.nckls.org/event/closed-2/
CATEGORIES:Closed
ATTACH;FMTTYPE=image/webp:https://herington.lib.nckls.org/wp-content/uploads/sites/21/2025/12/Closed-Memorial-Day.webp
END:VEVENT
BEGIN:VEVENT
DTSTART;TZID=America/Chicago:20260601T190000
DTEND;TZID=America/Chicago:20260601T200000
DTSTAMP:20260422T232056
CREATED:20251016T201639Z
LAST-MODIFIED:20251217T211511Z
UID:10000031-1780340400-1780344000@herington.lib.nckls.org
SUMMARY:Book Club
DESCRIPTION:Anyone is welcome to join us. If you have questions please call 785-258-2011
URL:https://herington.lib.nckls.org/event/book-club/2026-06-01/
CATEGORIES:Book Club
ATTACH;FMTTYPE=image/webp:https://herington.lib.nckls.org/wp-content/uploads/sites/21/2025/10/Book-Club-2.webp
END:VEVENT
BEGIN:VEVENT
DTSTART;TZID=America/Chicago:20260604T110000
DTEND;TZID=America/Chicago:20260604T130000
DTSTAMP:20260422T232056
CREATED:20251016T204634Z
LAST-MODIFIED:20260115T160817Z
UID:10000026-1780570800-1780578000@herington.lib.nckls.org
SUMMARY:Rotating Books
DESCRIPTION:This program distributes current and popular reading materials for all ages to system libraries.  The collection is weeded and constantly replenished with new books to keep it current.
URL:https://herington.lib.nckls.org/event/rotating-books/2026-06-04/
CATEGORIES:Rotating Books
ATTACH;FMTTYPE=image/webp:https://herington.lib.nckls.org/wp-content/uploads/sites/21/2025/12/rbv.webp
END:VEVENT
BEGIN:VEVENT
DTSTART;TZID=America/Chicago:20260609T163000
DTEND;TZID=America/Chicago:20260609T173000
DTSTAMP:20260422T232056
CREATED:20251016T204854Z
LAST-MODIFIED:20251219T200655Z
UID:10000039-1781022600-1781026200@herington.lib.nckls.org
SUMMARY:Board of Trustees Meeting
DESCRIPTION:We meet in the basement of the library! Anyone is welcome to join us.
URL:https://herington.lib.nckls.org/event/board-meeting/2026-06-09/
CATEGORIES:Board Meeting
ATTACH;FMTTYPE=image/webp:https://herington.lib.nckls.org/wp-content/uploads/sites/21/2022/10/board-meeting-3-e1701464171962.webp
END:VEVENT
BEGIN:VEVENT
DTSTART;VALUE=DATE:20260703
DTEND;VALUE=DATE:20260704
DTSTAMP:20260422T232056
CREATED:20251217T213608Z
LAST-MODIFIED:20251217T213814Z
UID:10000048-1783036800-1783123199@herington.lib.nckls.org
SUMMARY:Closed
DESCRIPTION:Sorry for the inconvenience\, the library will be closed. The library staff looks forward to assisting all patrons.
URL:https://herington.lib.nckls.org/event/closed-3/
CATEGORIES:Closed
ATTACH;FMTTYPE=image/webp:https://herington.lib.nckls.org/wp-content/uploads/sites/21/2025/12/Closed-Independence-Day.webp
END:VEVENT
BEGIN:VEVENT
DTSTART;TZID=America/Chicago:20260706T190000
DTEND;TZID=America/Chicago:20260706T200000
DTSTAMP:20260422T232056
CREATED:20251016T201639Z
LAST-MODIFIED:20251217T211511Z
UID:10000032-1783364400-1783368000@herington.lib.nckls.org
SUMMARY:Book Club
DESCRIPTION:Anyone is welcome to join us. If you have questions please call 785-258-2011
URL:https://herington.lib.nckls.org/event/book-club/2026-07-06/
CATEGORIES:Book Club
ATTACH;FMTTYPE=image/webp:https://herington.lib.nckls.org/wp-content/uploads/sites/21/2025/10/Book-Club-2.webp
END:VEVENT
BEGIN:VEVENT
DTSTART;TZID=America/Chicago:20260714T163000
DTEND;TZID=America/Chicago:20260714T173000
DTSTAMP:20260422T232056
CREATED:20251016T204854Z
LAST-MODIFIED:20251219T200655Z
UID:10000040-1784046600-1784050200@herington.lib.nckls.org
SUMMARY:Board of Trustees Meeting
DESCRIPTION:We meet in the basement of the library! Anyone is welcome to join us.
URL:https://herington.lib.nckls.org/event/board-meeting/2026-07-14/
CATEGORIES:Board Meeting
ATTACH;FMTTYPE=image/webp:https://herington.lib.nckls.org/wp-content/uploads/sites/21/2022/10/board-meeting-3-e1701464171962.webp
END:VEVENT
BEGIN:VEVENT
DTSTART;TZID=America/Chicago:20260803T190000
DTEND;TZID=America/Chicago:20260803T200000
DTSTAMP:20260422T232057
CREATED:20251016T201639Z
LAST-MODIFIED:20251217T211511Z
UID:10000033-1785783600-1785787200@herington.lib.nckls.org
SUMMARY:Book Club
DESCRIPTION:Anyone is welcome to join us. If you have questions please call 785-258-2011
URL:https://herington.lib.nckls.org/event/book-club/2026-08-03/
CATEGORIES:Book Club
ATTACH;FMTTYPE=image/webp:https://herington.lib.nckls.org/wp-content/uploads/sites/21/2025/10/Book-Club-2.webp
END:VEVENT
BEGIN:VEVENT
DTSTART;TZID=America/Chicago:20260806T110000
DTEND;TZID=America/Chicago:20260806T130000
DTSTAMP:20260422T232057
CREATED:20251016T204634Z
LAST-MODIFIED:20260115T160817Z
UID:10000027-1786014000-1786021200@herington.lib.nckls.org
SUMMARY:Rotating Books
DESCRIPTION:This program distributes current and popular reading materials for all ages to system libraries.  The collection is weeded and constantly replenished with new books to keep it current.
URL:https://herington.lib.nckls.org/event/rotating-books/2026-08-06/
CATEGORIES:Rotating Books
ATTACH;FMTTYPE=image/webp:https://herington.lib.nckls.org/wp-content/uploads/sites/21/2025/12/rbv.webp
END:VEVENT
BEGIN:VEVENT
DTSTART;TZID=America/Chicago:20260811T163000
DTEND;TZID=America/Chicago:20260811T173000
DTSTAMP:20260422T232057
CREATED:20251016T204854Z
LAST-MODIFIED:20251219T200655Z
UID:10000041-1786465800-1786469400@herington.lib.nckls.org
SUMMARY:Board of Trustees Meeting
DESCRIPTION:We meet in the basement of the library! Anyone is welcome to join us.
URL:https://herington.lib.nckls.org/event/board-meeting/2026-08-11/
CATEGORIES:Board Meeting
ATTACH;FMTTYPE=image/webp:https://herington.lib.nckls.org/wp-content/uploads/sites/21/2022/10/board-meeting-3-e1701464171962.webp
END:VEVENT
BEGIN:VEVENT
DTSTART;VALUE=DATE:20260907
DTEND;VALUE=DATE:20260908
DTSTAMP:20260422T232057
CREATED:20251217T213957Z
LAST-MODIFIED:20251219T195724Z
UID:10000049-1788739200-1788825599@herington.lib.nckls.org
SUMMARY:Closed
DESCRIPTION:Sorry for the inconvenience\, the library will be closed. The library staff looks forward to assisting all patrons.
URL:https://herington.lib.nckls.org/event/closed-7/
CATEGORIES:Closed
ATTACH;FMTTYPE=image/webp:https://herington.lib.nckls.org/wp-content/uploads/sites/21/2025/12/Closed-Labor-Day.webp
END:VEVENT
BEGIN:VEVENT
DTSTART;TZID=America/Chicago:20260908T163000
DTEND;TZID=America/Chicago:20260908T173000
DTSTAMP:20260422T232057
CREATED:20251016T204854Z
LAST-MODIFIED:20251219T200655Z
UID:10000042-1788885000-1788888600@herington.lib.nckls.org
SUMMARY:Board of Trustees Meeting
DESCRIPTION:We meet in the basement of the library! Anyone is welcome to join us.
URL:https://herington.lib.nckls.org/event/board-meeting/2026-09-08/
CATEGORIES:Board Meeting
ATTACH;FMTTYPE=image/webp:https://herington.lib.nckls.org/wp-content/uploads/sites/21/2022/10/board-meeting-3-e1701464171962.webp
END:VEVENT
BEGIN:VEVENT
DTSTART;TZID=America/Chicago:20260914T190000
DTEND;TZID=America/Chicago:20260914T200000
DTSTAMP:20260422T232057
CREATED:20251016T201639Z
LAST-MODIFIED:20251217T211511Z
UID:10000034-1789412400-1789416000@herington.lib.nckls.org
SUMMARY:Book Club
DESCRIPTION:Anyone is welcome to join us. If you have questions please call 785-258-2011
URL:https://herington.lib.nckls.org/event/book-club/2026-09-14/
CATEGORIES:Book Club
ATTACH;FMTTYPE=image/webp:https://herington.lib.nckls.org/wp-content/uploads/sites/21/2025/10/Book-Club-2.webp
END:VEVENT
BEGIN:VEVENT
DTSTART;TZID=America/Chicago:20261001T110000
DTEND;TZID=America/Chicago:20261001T130000
DTSTAMP:20260422T232057
CREATED:20251016T204634Z
LAST-MODIFIED:20260115T160817Z
UID:10000028-1790852400-1790859600@herington.lib.nckls.org
SUMMARY:Rotating Books
DESCRIPTION:This program distributes current and popular reading materials for all ages to system libraries.  The collection is weeded and constantly replenished with new books to keep it current.
URL:https://herington.lib.nckls.org/event/rotating-books/2026-10-01/
CATEGORIES:Rotating Books
ATTACH;FMTTYPE=image/webp:https://herington.lib.nckls.org/wp-content/uploads/sites/21/2025/12/rbv.webp
END:VEVENT
BEGIN:VEVENT
DTSTART;TZID=America/Chicago:20261005T190000
DTEND;TZID=America/Chicago:20261005T200000
DTSTAMP:20260422T232057
CREATED:20251016T201639Z
LAST-MODIFIED:20251217T211511Z
UID:10000035-1791226800-1791230400@herington.lib.nckls.org
SUMMARY:Book Club
DESCRIPTION:Anyone is welcome to join us. If you have questions please call 785-258-2011
URL:https://herington.lib.nckls.org/event/book-club/2026-10-05/
CATEGORIES:Book Club
ATTACH;FMTTYPE=image/webp:https://herington.lib.nckls.org/wp-content/uploads/sites/21/2025/10/Book-Club-2.webp
END:VEVENT
BEGIN:VEVENT
DTSTART;TZID=America/Chicago:20261013T163000
DTEND;TZID=America/Chicago:20261013T173000
DTSTAMP:20260422T232057
CREATED:20251016T204854Z
LAST-MODIFIED:20251219T200655Z
UID:10000043-1791909000-1791912600@herington.lib.nckls.org
SUMMARY:Board of Trustees Meeting
DESCRIPTION:We meet in the basement of the library! Anyone is welcome to join us.
URL:https://herington.lib.nckls.org/event/board-meeting/2026-10-13/
CATEGORIES:Board Meeting
ATTACH;FMTTYPE=image/webp:https://herington.lib.nckls.org/wp-content/uploads/sites/21/2022/10/board-meeting-3-e1701464171962.webp
END:VEVENT
BEGIN:VEVENT
DTSTART;TZID=America/Chicago:20261102T190000
DTEND;TZID=America/Chicago:20261102T200000
DTSTAMP:20260422T232057
CREATED:20251016T201639Z
LAST-MODIFIED:20251217T211511Z
UID:10000036-1793646000-1793649600@herington.lib.nckls.org
SUMMARY:Book Club
DESCRIPTION:Anyone is welcome to join us. If you have questions please call 785-258-2011
URL:https://herington.lib.nckls.org/event/book-club/2026-11-02/
CATEGORIES:Book Club
ATTACH;FMTTYPE=image/webp:https://herington.lib.nckls.org/wp-content/uploads/sites/21/2025/10/Book-Club-2.webp
END:VEVENT
BEGIN:VEVENT
DTSTART;TZID=America/Chicago:20261110T163000
DTEND;TZID=America/Chicago:20261110T173000
DTSTAMP:20260422T232057
CREATED:20251016T204854Z
LAST-MODIFIED:20251219T200655Z
UID:10000044-1794328200-1794331800@herington.lib.nckls.org
SUMMARY:Board of Trustees Meeting
DESCRIPTION:We meet in the basement of the library! Anyone is welcome to join us.
URL:https://herington.lib.nckls.org/event/board-meeting/2026-11-10/
CATEGORIES:Board Meeting
ATTACH;FMTTYPE=image/webp:https://herington.lib.nckls.org/wp-content/uploads/sites/21/2022/10/board-meeting-3-e1701464171962.webp
END:VEVENT
BEGIN:VEVENT
DTSTART;VALUE=DATE:20261111
DTEND;VALUE=DATE:20261112
DTSTAMP:20260422T232057
CREATED:20251217T214149Z
LAST-MODIFIED:20260127T214317Z
UID:10000050-1794355200-1794441599@herington.lib.nckls.org
SUMMARY:Closed
DESCRIPTION:Sorry for the inconvenience\, the library will be closed. The library staff looks forward to assisting all patrons.
URL:https://herington.lib.nckls.org/event/closed-8/
ATTACH;FMTTYPE=image/avif:https://herington.lib.nckls.org/wp-content/uploads/sites/21/2026/01/Closed-Veterans-Day-2.avif
END:VEVENT
BEGIN:VEVENT
DTSTART;VALUE=DATE:20261126
DTEND;VALUE=DATE:20261128
DTSTAMP:20260422T232057
CREATED:20251217T214334Z
LAST-MODIFIED:20260127T214902Z
UID:10000051-1795651200-1795823999@herington.lib.nckls.org
SUMMARY:Closed
DESCRIPTION:Sorry for the inconvenience\, the library will be closed. The library staff looks forward to assisting all patrons.
URL:https://herington.lib.nckls.org/event/closed-9/
CATEGORIES:Closed
ATTACH;FMTTYPE=image/webp:https://herington.lib.nckls.org/wp-content/uploads/sites/21/2025/12/Closed-for-Thanksgiving.webp
END:VEVENT
BEGIN:VEVENT
DTSTART;TZID=America/Chicago:20261203T110000
DTEND;TZID=America/Chicago:20261203T130000
DTSTAMP:20260422T232057
CREATED:20251016T204634Z
LAST-MODIFIED:20260115T160817Z
UID:10000029-1796295600-1796302800@herington.lib.nckls.org
SUMMARY:Rotating Books
DESCRIPTION:This program distributes current and popular reading materials for all ages to system libraries.  The collection is weeded and constantly replenished with new books to keep it current.
URL:https://herington.lib.nckls.org/event/rotating-books/2026-12-03/
CATEGORIES:Rotating Books
ATTACH;FMTTYPE=image/webp:https://herington.lib.nckls.org/wp-content/uploads/sites/21/2025/12/rbv.webp
END:VEVENT
BEGIN:VEVENT
DTSTART;TZID=America/Chicago:20261207T190000
DTEND;TZID=America/Chicago:20261207T200000
DTSTAMP:20260422T232057
CREATED:20251016T201639Z
LAST-MODIFIED:20251217T211511Z
UID:10000037-1796670000-1796673600@herington.lib.nckls.org
SUMMARY:Book Club
DESCRIPTION:Anyone is welcome to join us. If you have questions please call 785-258-2011
URL:https://herington.lib.nckls.org/event/book-club/2026-12-07/
CATEGORIES:Book Club
ATTACH;FMTTYPE=image/webp:https://herington.lib.nckls.org/wp-content/uploads/sites/21/2025/10/Book-Club-2.webp
END:VEVENT
BEGIN:VEVENT
DTSTART;TZID=America/Chicago:20261208T163000
DTEND;TZID=America/Chicago:20261208T173000
DTSTAMP:20260422T232057
CREATED:20251016T204854Z
LAST-MODIFIED:20251219T200655Z
UID:10000045-1796747400-1796751000@herington.lib.nckls.org
SUMMARY:Board of Trustees Meeting
DESCRIPTION:We meet in the basement of the library! Anyone is welcome to join us.
URL:https://herington.lib.nckls.org/event/board-meeting/2026-12-08/
CATEGORIES:Board Meeting
ATTACH;FMTTYPE=image/webp:https://herington.lib.nckls.org/wp-content/uploads/sites/21/2022/10/board-meeting-3-e1701464171962.webp
END:VEVENT
BEGIN:VEVENT
DTSTART;VALUE=DATE:20261224
DTEND;VALUE=DATE:20261226
DTSTAMP:20260422T232057
CREATED:20251217T215953Z
LAST-MODIFIED:20260127T214219Z
UID:10000052-1798070400-1798243199@herington.lib.nckls.org
SUMMARY:Closed
DESCRIPTION:Sorry for the inconvenience\, the library will be closed. The library staff looks forward to assisting all patrons.
URL:https://herington.lib.nckls.org/event/closed-10/
CATEGORIES:Closed
ATTACH;FMTTYPE=image/webp:https://herington.lib.nckls.org/wp-content/uploads/sites/21/2026/01/Closed-Christmas-2026.webp
END:VEVENT
END:VCALENDAR